BEGIN:VCALENDAR
VERSION:2.0
PRODID:-//Winter Wonderlend - ECPv6.7.0//NONSGML v1.0//EN
CALSCALE:GREGORIAN
METHOD:PUBLISH
X-WR-CALNAME:Winter Wonderlend
X-ORIGINAL-URL:https://wonderlend.at
X-WR-CALDESC:Events for Winter Wonderlend
REFRESH-INTERVAL;VALUE=DURATION:PT1H
X-Robots-Tag:noindex
X-PUBLISHED-TTL:PT1H
BEGIN:VTIMEZONE
TZID:UTC
BEGIN:STANDARD
TZOFFSETFROM:+0000
TZOFFSETTO:+0000
TZNAME:UTC
DTSTART:20240101T000000
END:STANDARD
TZID:Europe/Paris
BEGIN:DAYLIGHT
TZOFFSETFROM:+0100
TZOFFSETTO:+0200
TZNAME:CEST
DTSTART:20240331T010000
END:DAYLIGHT
BEGIN:STANDARD
TZOFFSETFROM:+0200
TZOFFSETTO:+0100
TZNAME:CET
DTSTART:20241027T010000
END:STANDARD
END:VTIMEZONE
BEGIN:VEVENT
DTSTART;TZID=UTC:20241221T160000
DTEND;TZID=UTC:20241221T200000
DTSTAMP:20260421T231853
CREATED:20241006T174811Z
LAST-MODIFIED:20241006T174811Z
UID:122-1734796800-1734811200@wonderlend.at
SUMMARY:MEHR oder WENIGER
DESCRIPTION:
URL:https://wonderlend.at/event/mehr-oder-weniger/
LOCATION:Mariahilferplatz Graz\, Mariahilferplatz\, Graz\, 8020\, Austria
CATEGORIES:Musik
END:VEVENT
BEGIN:VEVENT
DTSTART;TZID=UTC:20241217T140000
DTEND;TZID=UTC:20241217T180000
DTSTAMP:20260421T231853
CREATED:20241006T174655Z
LAST-MODIFIED:20241006T174711Z
UID:120-1734444000-1734458400@wonderlend.at
SUMMARY:Kinderdienstag (basteln\, schminken etc.)
DESCRIPTION:
URL:https://wonderlend.at/event/kinderdienstag-basteln-schminken-etc/
LOCATION:Mariahilferplatz Graz\, Mariahilferplatz\, Graz\, 8020\, Austria
CATEGORIES:Kinder
END:VEVENT
BEGIN:VEVENT
DTSTART;TZID=UTC:20241214T160000
DTEND;TZID=UTC:20241214T200000
DTSTAMP:20260421T231853
CREATED:20241006T174456Z
LAST-MODIFIED:20241006T174456Z
UID:118-1734192000-1734206400@wonderlend.at
SUMMARY:Alpenyetis
DESCRIPTION:
URL:https://wonderlend.at/event/alpenyetis/
LOCATION:Mariahilferplatz Graz\, Mariahilferplatz\, Graz\, 8020\, Austria
END:VEVENT
BEGIN:VEVENT
DTSTART;TZID=UTC:20241207T160000
DTEND;TZID=UTC:20241207T200000
DTSTAMP:20260421T231853
CREATED:20241006T174352Z
LAST-MODIFIED:20241006T174352Z
UID:116-1733587200-1733601600@wonderlend.at
SUMMARY:Weihnachtsreggae Night
DESCRIPTION:
URL:https://wonderlend.at/event/weihnachtsreggae-night/
LOCATION:Mariahilferplatz Graz\, Mariahilferplatz\, Graz\, 8020\, Austria
END:VEVENT
BEGIN:VEVENT
DTSTART;TZID=UTC:20241207T130000
DTEND;TZID=UTC:20241207T150000
DTSTAMP:20260421T231853
CREATED:20241006T174256Z
LAST-MODIFIED:20241006T174256Z
UID:114-1733576400-1733583600@wonderlend.at
SUMMARY:Wunschradio Grün Weiß
DESCRIPTION:
URL:https://wonderlend.at/event/wunschradio-gruen-weiss/
LOCATION:Mariahilferplatz Graz\, Mariahilferplatz\, Graz\, 8020\, Austria
END:VEVENT
BEGIN:VEVENT
DTSTART;TZID=Europe/Paris:20241205T160000
DTEND;TZID=Europe/Paris:20241205T180000
DTSTAMP:20260421T231853
CREATED:20241006T174146Z
LAST-MODIFIED:20241006T174146Z
UID:112-1733414400-1733421600@wonderlend.at
SUMMARY:Krampusbesuch
DESCRIPTION:
URL:https://wonderlend.at/event/krampusbesuch/
LOCATION:Mariahilferplatz Graz\, Mariahilferplatz\, Graz\, 8020\, Austria
END:VEVENT
BEGIN:VEVENT
DTSTART;TZID=UTC:20241203T140000
DTEND;TZID=UTC:20241203T180000
DTSTAMP:20260421T231853
CREATED:20241006T173920Z
LAST-MODIFIED:20241006T174028Z
UID:107-1733234400-1733248800@wonderlend.at
SUMMARY:Kinderdienstag (basteln\, schminken etc.)
DESCRIPTION:
URL:https://wonderlend.at/event/kinderdienstag-basteln-schmicken-etc/
LOCATION:Mariahilferplatz Graz\, Mariahilferplatz\, Graz\, 8020\, Austria
END:VEVENT
BEGIN:VEVENT
DTSTART;TZID=UTC:20241130T160000
DTEND;TZID=UTC:20241130T200000
DTSTAMP:20260421T231853
CREATED:20241006T170930Z
LAST-MODIFIED:20241006T173135Z
UID:102-1732982400-1732996800@wonderlend.at
SUMMARY:T n´ T
DESCRIPTION:
URL:https://wonderlend.at/event/t-n-t/
LOCATION:Mariahilferplatz Graz\, Mariahilferplatz\, Graz\, 8020\, Austria
END:VEVENT
BEGIN:VEVENT
DTSTART;TZID=UTC:20241123T160000
DTEND;TZID=UTC:20241123T200000
DTSTAMP:20260421T231853
CREATED:20241006T163828Z
LAST-MODIFIED:20241006T170049Z
UID:67-1732377600-1732392000@wonderlend.at
SUMMARY:Steinberg Duo
DESCRIPTION:
URL:https://wonderlend.at/event/steinberg-duo/
LOCATION:Mariahilferplatz Graz\, Mariahilferplatz\, Graz\, 8020\, Austria
CATEGORIES:Musik
END:VEVENT
END:VCALENDAR