BEGIN:VCALENDAR
VERSION:2.0
PRODID:-//Winter Wonderlend - ECPv6.7.0//NONSGML v1.0//EN
CALSCALE:GREGORIAN
METHOD:PUBLISH
X-ORIGINAL-URL:https://wonderlend.at
X-WR-CALDESC:Events for Winter Wonderlend
REFRESH-INTERVAL;VALUE=DURATION:PT1H
X-Robots-Tag:noindex
X-PUBLISHED-TTL:PT1H
BEGIN:VTIMEZONE
TZID:UTC
BEGIN:STANDARD
TZOFFSETFROM:+0000
TZOFFSETTO:+0000
TZNAME:UTC
DTSTART:20240101T000000
END:STANDARD
END:VTIMEZONE
BEGIN:VEVENT
DTSTART;TZID=UTC:20241214T160000
DTEND;TZID=UTC:20241214T200000
DTSTAMP:20260421T212407
CREATED:20241006T174456Z
LAST-MODIFIED:20241006T174456Z
UID:118-1734192000-1734206400@wonderlend.at
SUMMARY:Alpenyetis
DESCRIPTION:
URL:https://wonderlend.at/event/alpenyetis/
LOCATION:Mariahilferplatz Graz\, Mariahilferplatz\, Graz\, 8020\, Austria
END:VEVENT
BEGIN:VEVENT
DTSTART;TZID=UTC:20241217T140000
DTEND;TZID=UTC:20241217T180000
DTSTAMP:20260421T212407
CREATED:20241006T174655Z
LAST-MODIFIED:20241006T174711Z
UID:120-1734444000-1734458400@wonderlend.at
SUMMARY:Kinderdienstag (basteln\, schminken etc.)
DESCRIPTION:
URL:https://wonderlend.at/event/kinderdienstag-basteln-schminken-etc/
LOCATION:Mariahilferplatz Graz\, Mariahilferplatz\, Graz\, 8020\, Austria
CATEGORIES:Kinder
END:VEVENT
BEGIN:VEVENT
DTSTART;TZID=UTC:20241221T160000
DTEND;TZID=UTC:20241221T200000
DTSTAMP:20260421T212407
CREATED:20241006T174811Z
LAST-MODIFIED:20241006T174811Z
UID:122-1734796800-1734811200@wonderlend.at
SUMMARY:MEHR oder WENIGER
DESCRIPTION:
URL:https://wonderlend.at/event/mehr-oder-weniger/
LOCATION:Mariahilferplatz Graz\, Mariahilferplatz\, Graz\, 8020\, Austria
CATEGORIES:Musik
END:VEVENT
BEGIN:VEVENT
DTSTART;TZID=UTC:20251126T180000
DTEND;TZID=UTC:20251126T200000
DTSTAMP:20260421T212407
CREATED:20251223T144824Z
LAST-MODIFIED:20251223T144824Z
UID:190-1764180000-1764187200@wonderlend.at
SUMMARY:Livemusik mit Sueli de Melo (Oldies\, Latin\, Schlager)
DESCRIPTION:
URL:https://wonderlend.at/event/livemusik-mit-sueli-de-melo-oldies-latin-schlager/
END:VEVENT
BEGIN:VEVENT
DTSTART;TZID=UTC:20251202T150000
DTEND;TZID=UTC:20251202T180000
DTSTAMP:20260421T212407
CREATED:20251223T145024Z
LAST-MODIFIED:20251223T145024Z
UID:192-1764687600-1764698400@wonderlend.at
SUMMARY:Kinderdienstag
DESCRIPTION:Gemeinsames betreutes Basteln mit den Kindern.
URL:https://wonderlend.at/event/kinderdienstag/
LOCATION:Mariahilferplatz Graz\, Mariahilferplatz\, Graz\, 8020\, Austria
END:VEVENT
BEGIN:VEVENT
DTSTART;TZID=UTC:20251203T162000
DTEND;TZID=UTC:20251203T200000
DTSTAMP:20260421T212407
CREATED:20251223T145140Z
LAST-MODIFIED:20251223T145140Z
UID:195-1764778800-1764792000@wonderlend.at
SUMMARY:Reggaenight
DESCRIPTION:
URL:https://wonderlend.at/event/reggaenight/
END:VEVENT
BEGIN:VEVENT
DTSTART;TZID=UTC:20251205T170000
DTEND;TZID=UTC:20251205T183000
DTSTAMP:20260421T212407
CREATED:20251223T145241Z
LAST-MODIFIED:20251223T145256Z
UID:197-1764954000-1764959400@wonderlend.at
SUMMARY:Krampusbesuch
DESCRIPTION:
URL:https://wonderlend.at/event/krampusbesuch-2/
LOCATION:Mariahilferplatz Graz\, Mariahilferplatz\, Graz\, 8020\, Austria
END:VEVENT
BEGIN:VEVENT
DTSTART;TZID=UTC:20251209T150000
DTEND;TZID=UTC:20251209T180000
DTSTAMP:20260421T212407
CREATED:20251223T145417Z
LAST-MODIFIED:20251223T145417Z
UID:200-1765292400-1765303200@wonderlend.at
SUMMARY:Kinderdienstag
DESCRIPTION:Gemeinsames betreutes Basteln.
URL:https://wonderlend.at/event/kinderdienstag-2/
LOCATION:Mariahilferplatz Graz\, Mariahilferplatz\, Graz\, 8020\, Austria
END:VEVENT
BEGIN:VEVENT
DTSTART;TZID=UTC:20251210T180000
DTEND;TZID=UTC:20251210T200000
DTSTAMP:20260421T212407
CREATED:20251223T145516Z
LAST-MODIFIED:20251223T145516Z
UID:203-1765389600-1765396800@wonderlend.at
SUMMARY:Livemusik Grodaus
DESCRIPTION:
URL:https://wonderlend.at/event/livemusik-grodaus/
LOCATION:Mariahilferplatz Graz\, Mariahilferplatz\, Graz\, 8020\, Austria
END:VEVENT
BEGIN:VEVENT
DTSTART;TZID=UTC:20251216T150000
DTEND;TZID=UTC:20251216T180000
DTSTAMP:20260421T212407
CREATED:20251223T145559Z
LAST-MODIFIED:20251223T145559Z
UID:205-1765897200-1765908000@wonderlend.at
SUMMARY:Kinderdienstag
DESCRIPTION:Gemeinsames betreutes Basteln
URL:https://wonderlend.at/event/kinderdienstag-3/
LOCATION:Mariahilferplatz Graz\, Mariahilferplatz\, Graz\, 8020\, Austria
END:VEVENT
BEGIN:VEVENT
DTSTART;TZID=UTC:20251217T180000
DTEND;TZID=UTC:20251217T200000
DTSTAMP:20260421T212407
CREATED:20251223T145658Z
LAST-MODIFIED:20251223T145658Z
UID:208-1765994400-1766001600@wonderlend.at
SUMMARY:Livemusik MEHR oder WENIGER
DESCRIPTION:
URL:https://wonderlend.at/event/livemusik-mehr-oder-weniger/
LOCATION:Mariahilferplatz Graz\, Mariahilferplatz\, Graz\, 8020\, Austria
END:VEVENT
END:VCALENDAR